BEGIN:VCALENDAR
PRODID:-//Microsoft Corporation//Outlook MIMEDIR//EN
VERSION:2.0
METHOD:PUBLISH
BEGIN:VEVENT
DTSTART:20260415T100000
DTEND:20260415T110000
DESCRIPTION:
LOCATION:Growth Services Main Training Room
SUMMARY:Local Mitigation Strategies
CATEGORIES:MEETING
END:VEVENT
END:VCALENDAR
