BEGIN:VCALENDAR
PRODID:-//Microsoft Corporation//Outlook MIMEDIR//EN
VERSION:2.0
METHOD:PUBLISH
BEGIN:VEVENT
DTSTART:20260513T090000
DTEND:20260513T100000
DESCRIPTION:
LOCATION:Marion County  Main Training Room
SUMMARY:Code Enforcement Board
CATEGORIES:MEETING
END:VEVENT
END:VCALENDAR
