BEGIN:VCALENDAR
PRODID:-//Microsoft Corporation//Outlook MIMEDIR//EN
VERSION:2.0
METHOD:PUBLISH
BEGIN:VEVENT
DTSTART:20260421T135000
DTEND:20260421T145000
DESCRIPTION:
LOCATION:McPherson Governmental Campus Auditorium
SUMMARY:Community Redevelopment Agency
CATEGORIES:MEETING
END:VEVENT
END:VCALENDAR
