BEGIN:VCALENDAR
PRODID:-//Microsoft Corporation//Outlook MIMEDIR//EN
VERSION:2.0
METHOD:PUBLISH
BEGIN:VEVENT
DTSTART:20260427T173000
DTEND:20260427T183000
DESCRIPTION:
LOCATION:McPherson Governmental Campus Auditorium
SUMMARY:Planning & Zoning Commission
CATEGORIES:MEETING
END:VEVENT
END:VCALENDAR
